BEGIN:VCALENDAR
VERSION:2.0
PRODID:-//eventon.com NONSGML v1.0//EN
BEGIN:VEVENT
UID:69e88edd5bcdb
DTSTAMP:20260422T090325
DTSTART:20210708T140000Z
DTEND:20210708T170000Z
LOCATION:Damplein 
SUMMARY:Spektakeldag Damplein
DESCRIPTION: Een namiddag boordevol sport\,  spel en amusement georganiseerd door Kras Dam\,  Buurtsport en Buurtwerking Elegast – Den Dam Voor wie? Kinderen van #dendam (Inschrijven op voorhand is niet nodig) Max 50 deelnemers; alles coronaproof!
END:VEVENT
END:VCALENDAR